BEGIN:VCALENDAR
VERSION:2.0
PRODID:-//ChamberMaster//Event Calendar 2.0//EN
METHOD:PUBLISH
X-PUBLISHED-TTL:P1H
REFRESH-INTERVAL:P1H
CALSCALE:GREGORIAN
BEGIN:VTIMEZONE
TZID:America/New_York
BEGIN:DAYLIGHT
RRULE:FREQ=YEARLY;BYMONTH=3;BYDAY=2SU
DTSTART:20070101T000000
TZOFFSETFROM:-0500
TZOFFSETTO:-0400
TZNAME:Eastern Daylight Time
END:DAYLIGHT
BEGIN:STANDARD
RRULE:FREQ=YEARLY;BYMONTH=11;BYDAY=1SU
DTSTART:20070101T000000
TZOFFSETFROM:-0400
TZOFFSETTO:-0500
TZNAME:Eastern Standard Time
END:STANDARD
END:VTIMEZONE
BEGIN:VEVENT
DTSTART;TZID=America/New_York:20250301T090000
DTEND;TZID=America/New_York:20250301T120000
X-MICROSOFT-CDO-ALLDAYEVENT:FALSE
SUMMARY:Safeguards 4 Kids - Faith Christian Academy
DESCRIPTION:1 in 3 girls and 1 in 7 boys will be sexually abused before the age of 18. What can Christians do to change these disturbing facts?\n\nJulie Lowe argues that Christians must lead the way in prevention and response measures to keep kids safe and to respond with the hope of the gospel. Julie is a licensed professional counselor who brings over twenty years of counseling experience to help equip parents to become aware of this issue\, and equip their children to recognize\, respond\, and report immoral behavior from an adult.\n\nSafeguards 4 Kids will help parents and caregivers to have wisdom and discernment in parenting\, and will teach them how to have age-appropriate conversations with their kids about abuse and threats. In addition to Julie’s presentation\, we will also have mini-talks addressing human trafficking and internet safety for kids.\n\nThis event is intended for parents\, grandparents\, caregivers\, ministry leaders\, and pastors. Join us\, so that you can safeguard your kids and equip them with the wisdom necessary to navigate a fallen world.
X-ALT-DESC;FMTTYPE=text/html:1 in 3 girls and 1 in 7 boys will be sexually abused before the age of 18. What can Christians do to change these disturbing facts?\n\nJulie Lowe argues that Christians must lead the way in prevention and response measures to keep kids safe and to respond with the hope of the gospel. Julie is a licensed professional counselor who brings over twenty years of counseling experience to help equip parents to become aware of this issue\, and equip their children to recognize\, respond\, and report immoral behavior from an adult.\n\nSafeguards 4 Kids will help parents and caregivers to have wisdom and discernment in parenting\, and will teach them how to have age-appropriate conversations with their kids about abuse and threats. In addition to Julie’s presentation\, we will also have mini-talks addressing human trafficking and internet safety for kids.\n\nThis event is intended for parents\, grandparents\, caregivers\, ministry leaders\, and pastors. Join us\, so that you can safeguard your kids and equip them with the wisdom necessary to navigate a fallen world.
LOCATION:2255 Allentown Road Quakertown PA 18951
UID:e.3248.1077642
SEQUENCE:3
DTSTAMP:20260421T101215Z
URL:https://members.ecap.net/events/Details/safeguards-4-kids-faith-christian-academy-1242622?sourceTypeId=Hub
END:VEVENT
END:VCALENDAR
